BEGIN:VCALENDAR
VERSION:2.0
PRODID:-//The Center for Integrative Counseling and Psychology - ECPv6.15.20//NONSGML v1.0//EN
CALSCALE:GREGORIAN
METHOD:PUBLISH
X-WR-CALNAME:The Center for Integrative Counseling and Psychology
X-ORIGINAL-URL:https://thecentercounseling.org
X-WR-CALDESC:Events for The Center for Integrative Counseling and Psychology
REFRESH-INTERVAL;VALUE=DURATION:PT1H
X-Robots-Tag:noindex
X-PUBLISHED-TTL:PT1H
BEGIN:VTIMEZONE
TZID:America/Chicago
BEGIN:DAYLIGHT
TZOFFSETFROM:-0600
TZOFFSETTO:-0500
TZNAME:CDT
DTSTART:20230312T080000
END:DAYLIGHT
BEGIN:STANDARD
TZOFFSETFROM:-0500
TZOFFSETTO:-0600
TZNAME:CST
DTSTART:20231105T070000
END:STANDARD
BEGIN:DAYLIGHT
TZOFFSETFROM:-0600
TZOFFSETTO:-0500
TZNAME:CDT
DTSTART:20240310T080000
END:DAYLIGHT
BEGIN:STANDARD
TZOFFSETFROM:-0500
TZOFFSETTO:-0600
TZNAME:CST
DTSTART:20241103T070000
END:STANDARD
BEGIN:DAYLIGHT
TZOFFSETFROM:-0600
TZOFFSETTO:-0500
TZNAME:CDT
DTSTART:20250309T080000
END:DAYLIGHT
BEGIN:STANDARD
TZOFFSETFROM:-0500
TZOFFSETTO:-0600
TZNAME:CST
DTSTART:20251102T070000
END:STANDARD
BEGIN:DAYLIGHT
TZOFFSETFROM:-0600
TZOFFSETTO:-0500
TZNAME:CDT
DTSTART:20260308T080000
END:DAYLIGHT
BEGIN:STANDARD
TZOFFSETFROM:-0500
TZOFFSETTO:-0600
TZNAME:CST
DTSTART:20261101T070000
END:STANDARD
END:VTIMEZONE
BEGIN:VEVENT
DTSTART;TZID=America/Chicago:20250606T083000
DTEND;TZID=America/Chicago:20250606T100000
DTSTAMP:20260425T184818
CREATED:20250324T184012Z
LAST-MODIFIED:20250408T212507Z
UID:3199-1749198600-1749204000@thecentercounseling.org
SUMMARY:OLOGY Summer Series | June 6
DESCRIPTION:The God Who is There: Development of the Capacity for Prayer in Therapist and Patient\nMarie Hoffman\, Ph.D. & Lowell Hoffman\, Ph.D. (Presenting Virtually) \nJune 6\, 2025\,  8:30 – 10:00 am \nExplore the intersection of faith and psychodynamic theory in The God Who Is There\, a compelling talk by internationally recognized experts. Discover how different forms of prayer emerge in therapy and deepen your understanding of their role in the therapeutic process. \n1 CEU\, $50 registration fee \nLearn more and register HERE \n 
URL:https://thecentercounseling.org/event/ology-summer-series-june-6/
LOCATION:The Center\, 4305 MacArthur Ave\, Dallas\, TX\, 75209\, United States
CATEGORIES:OLOGY
ATTACH;FMTTYPE=image/png:https://thecentercounseling.org/wp-content/uploads/2025/03/OLOGY-Series-2025.png
END:VEVENT
BEGIN:VEVENT
DTSTART;TZID=America/Chicago:20241018T083000
DTEND;TZID=America/Chicago:20241018T143000
DTSTAMP:20260425T184818
CREATED:20240906T164557Z
LAST-MODIFIED:20241202T214744Z
UID:2265-1729240200-1729261800@thecentercounseling.org
SUMMARY:OLOGY | Life’s Losses and the Spirit of Resiliency
DESCRIPTION:Engage in a powerful seminar for mental health professionals\, faith leaders\, and educators\, where we’ll explore the resilience found in adversity\, gain fresh insights on loss and recovery through the lens of C.S. Lewis\, and dive into focused breakout sessions on supporting grief\, navigating Gen Z’s relational challenges\, and understanding perinatal loss. This is a unique opportunity to deepen your expertise and bring healing to those you serve. Don’t miss out! \nClick HERE for more information and to register.
URL:https://thecentercounseling.org/event/ology-lifes-losses-and-the-spirit-of-resiliency/
LOCATION:Highland Park Presbyterian Church\, 3821 University Blvd\, Dallas\, TX\, 75205\, United States
ATTACH;FMTTYPE=image/png:https://thecentercounseling.org/wp-content/uploads/2024/08/ologylogo_teal.png
END:VEVENT
END:VCALENDAR