BEGIN:VCALENDAR
VERSION:2.0
PRODID:-//The Center for Integrative Counseling and Psychology - ECPv6.15.20//NONSGML v1.0//EN
CALSCALE:GREGORIAN
METHOD:PUBLISH
X-ORIGINAL-URL:https://thecentercounseling.org
X-WR-CALDESC:Events for The Center for Integrative Counseling and Psychology
REFRESH-INTERVAL;VALUE=DURATION:PT1H
X-Robots-Tag:noindex
X-PUBLISHED-TTL:PT1H
BEGIN:VTIMEZONE
TZID:America/Chicago
BEGIN:DAYLIGHT
TZOFFSETFROM:-0600
TZOFFSETTO:-0500
TZNAME:CDT
DTSTART:20240310T080000
END:DAYLIGHT
BEGIN:STANDARD
TZOFFSETFROM:-0500
TZOFFSETTO:-0600
TZNAME:CST
DTSTART:20241103T070000
END:STANDARD
BEGIN:DAYLIGHT
TZOFFSETFROM:-0600
TZOFFSETTO:-0500
TZNAME:CDT
DTSTART:20250309T080000
END:DAYLIGHT
BEGIN:STANDARD
TZOFFSETFROM:-0500
TZOFFSETTO:-0600
TZNAME:CST
DTSTART:20251102T070000
END:STANDARD
BEGIN:DAYLIGHT
TZOFFSETFROM:-0600
TZOFFSETTO:-0500
TZNAME:CDT
DTSTART:20260308T080000
END:DAYLIGHT
BEGIN:STANDARD
TZOFFSETFROM:-0500
TZOFFSETTO:-0600
TZNAME:CST
DTSTART:20261101T070000
END:STANDARD
END:VTIMEZONE
BEGIN:VEVENT
DTSTART;TZID=America/Chicago:20250815T083000
DTEND;TZID=America/Chicago:20250815T100000
DTSTAMP:20260425T141456
CREATED:20250324T185630Z
LAST-MODIFIED:20250408T211348Z
UID:3210-1755246600-1755252000@thecentercounseling.org
SUMMARY:OLOGY Summer Series | August 15
DESCRIPTION:Sacred Conversations: Prayer Inside and Outside the Therapeutic Frame\nNathaniel R. Strenger\, Psy.D.\, and Marisol De Jesús-Pérez\, PhD \nAugust 15\, 2025\,  8:30 – 10:00 am \nJoin Drs. Strenger and De Jesús-Pérez as they explore prayer as a profound therapeutic phenomenon with both theological and psychological significance. This talk examines how prayer reveals deep transferential dynamics\, offering clinicians new insights into the interplay between God\, the therapist\, and early attachment figures in the therapeutic space. \n1 CEU\, $50 registration fee \nLearn more and register HERE
URL:https://thecentercounseling.org/event/ology-summer-series-august-15/
LOCATION:The Center\, 4305 MacArthur Ave\, Dallas\, TX\, 75209\, United States
ATTACH;FMTTYPE=image/png:https://thecentercounseling.org/wp-content/uploads/2025/03/OLOGY-Series-2025.png
END:VEVENT
END:VCALENDAR