BEGIN:VCALENDAR
VERSION:2.0
PRODID:-//The Center for Integrative Counseling and Psychology - ECPv6.15.20//NONSGML v1.0//EN
CALSCALE:GREGORIAN
METHOD:PUBLISH
X-ORIGINAL-URL:https://thecentercounseling.org
X-WR-CALDESC:Events for The Center for Integrative Counseling and Psychology
REFRESH-INTERVAL;VALUE=DURATION:PT1H
X-Robots-Tag:noindex
X-PUBLISHED-TTL:PT1H
BEGIN:VTIMEZONE
TZID:America/Chicago
BEGIN:DAYLIGHT
TZOFFSETFROM:-0600
TZOFFSETTO:-0500
TZNAME:CDT
DTSTART:20250309T080000
END:DAYLIGHT
BEGIN:STANDARD
TZOFFSETFROM:-0500
TZOFFSETTO:-0600
TZNAME:CST
DTSTART:20251102T070000
END:STANDARD
BEGIN:DAYLIGHT
TZOFFSETFROM:-0600
TZOFFSETTO:-0500
TZNAME:CDT
DTSTART:20260308T080000
END:DAYLIGHT
BEGIN:STANDARD
TZOFFSETFROM:-0500
TZOFFSETTO:-0600
TZNAME:CST
DTSTART:20261101T070000
END:STANDARD
BEGIN:DAYLIGHT
TZOFFSETFROM:-0600
TZOFFSETTO:-0500
TZNAME:CDT
DTSTART:20270314T080000
END:DAYLIGHT
BEGIN:STANDARD
TZOFFSETFROM:-0500
TZOFFSETTO:-0600
TZNAME:CST
DTSTART:20271107T070000
END:STANDARD
END:VTIMEZONE
BEGIN:VEVENT
DTSTART;TZID=America/Chicago:20261022T190000
DTEND;TZID=America/Chicago:20261022T230000
DTSTAMP:20260425T112516
CREATED:20260421T181001Z
LAST-MODIFIED:20260421T181207Z
UID:4103-1792695600-1792710000@thecentercounseling.org
SUMMARY:Sound Art & Soul
DESCRIPTION:Save the date!
URL:https://thecentercounseling.org/event/sound-art-soul/
LOCATION:The Kessler Theater\, 1230 W Davis St\, Dallas\, Texas\, 75208
ATTACH;FMTTYPE=image/jpeg:https://thecentercounseling.org/wp-content/uploads/2026/04/SAS-web-event-16-9.jpg
END:VEVENT
END:VCALENDAR